BEGIN:VCALENDAR
VERSION:2.0
PRODID:demo.lauti.org
METHOD:REQUEST
BEGIN:VEVENT
UID:22f24d4f-5cd1-4eeb-bd19-aa9cfad36664
SUMMARY:Open Day
DTSTART:20260609T180000Z
URL:https://demo.lauti.org/event/22f24d4f-5cd1-4eeb-bd19-aa9cfad36664
DTEND:20260609T200000Z
CATEGORIES:test\,test
DESCRIPTION:hgjygjh
LOCATION:Hackerspace\, AB22 8GU
GEO:57.1796322;-2.1109998
ORGANIZER:mailto:Hackerspace
END:VEVENT
END:VCALENDAR
