BEGIN:VCALENDAR
VERSION:2.0
PRODID:demo.lauti.org
METHOD:REQUEST
BEGIN:VEVENT
UID:af29c2ee-7c01-4a86-af64-1745eb14380e
SUMMARY:Open Day
DTSTART:20260505T180000Z
URL:https://demo.lauti.org/event/af29c2ee-7c01-4a86-af64-1745eb14380e
DTEND:20260505T200000Z
CATEGORIES:test\,test
DESCRIPTION:hgjygjh
LOCATION:Hackerspace\, AB22 8GU
GEO:57.1796322;-2.1109998
ORGANIZER:mailto:Hackerspace
END:VEVENT
END:VCALENDAR
